BEGIN:VCALENDAR
VERSION:2.0
PRODID:-//VOILE LATINE DE SETE ET DU BASSIN DE THAU - ECPv6.15.20//NONSGML v1.0//EN
CALSCALE:GREGORIAN
METHOD:PUBLISH
X-WR-CALNAME:VOILE LATINE DE SETE ET DU BASSIN DE THAU
X-ORIGINAL-URL:https://voilelatinesete.org
X-WR-CALDESC:Évènements pour VOILE LATINE DE SETE ET DU BASSIN DE THAU
REFRESH-INTERVAL;VALUE=DURATION:PT1H
X-Robots-Tag:noindex
X-PUBLISHED-TTL:PT1H
BEGIN:VTIMEZONE
TZID:Europe/Helsinki
BEGIN:DAYLIGHT
TZOFFSETFROM:+0200
TZOFFSETTO:+0300
TZNAME:EEST
DTSTART:20230326T010000
END:DAYLIGHT
BEGIN:STANDARD
TZOFFSETFROM:+0300
TZOFFSETTO:+0200
TZNAME:EET
DTSTART:20231029T010000
END:STANDARD
BEGIN:DAYLIGHT
TZOFFSETFROM:+0200
TZOFFSETTO:+0300
TZNAME:EEST
DTSTART:20240331T010000
END:DAYLIGHT
BEGIN:STANDARD
TZOFFSETFROM:+0300
TZOFFSETTO:+0200
TZNAME:EET
DTSTART:20241027T010000
END:STANDARD
BEGIN:DAYLIGHT
TZOFFSETFROM:+0200
TZOFFSETTO:+0300
TZNAME:EEST
DTSTART:20250330T010000
END:DAYLIGHT
BEGIN:STANDARD
TZOFFSETFROM:+0300
TZOFFSETTO:+0200
TZNAME:EET
DTSTART:20251026T010000
END:STANDARD
END:VTIMEZONE
BEGIN:VEVENT
DTSTART;TZID=Europe/Helsinki:20240607T000000
DTEND;TZID=Europe/Helsinki:20240608T235959
DTSTAMP:20260422T093940
CREATED:20240602T063328Z
LAST-MODIFIED:20240913T073928Z
UID:6571-1717718400-1717891199@voilelatinesete.org
SUMMARY:L'art prend le large
DESCRIPTION:Une exposition gratuite et singulière de sculptures\, peintures\, photographies … par une soixantaine d’artistes locaux. \n\n\n\n\n\n\n\n\n\n\n\n\n\n\n\n    \n        \n        \n               \n        \n        Carte
URL:https://voilelatinesete.org/event/lart-prend-le-large/
CATEGORIES:Culture
ATTACH;FMTTYPE=image/png:https://voilelatinesete.org/wp-content/uploads/2024/06/lart-prend-le-large-2024-affiche.png
END:VEVENT
END:VCALENDAR