BEGIN:VCALENDAR
VERSION:2.0
PRODID:-//VOILE LATINE DE SETE ET DU BASSIN DE THAU - ECPv6.15.20//NONSGML v1.0//EN
CALSCALE:GREGORIAN
METHOD:PUBLISH
X-ORIGINAL-URL:https://voilelatinesete.org
X-WR-CALDESC:Évènements pour VOILE LATINE DE SETE ET DU BASSIN DE THAU
REFRESH-INTERVAL;VALUE=DURATION:PT1H
X-Robots-Tag:noindex
X-PUBLISHED-TTL:PT1H
BEGIN:VTIMEZONE
TZID:Europe/Paris
BEGIN:DAYLIGHT
TZOFFSETFROM:+0100
TZOFFSETTO:+0200
TZNAME:CEST
DTSTART:20200329T010000
END:DAYLIGHT
BEGIN:STANDARD
TZOFFSETFROM:+0200
TZOFFSETTO:+0100
TZNAME:CET
DTSTART:20201025T010000
END:STANDARD
BEGIN:DAYLIGHT
TZOFFSETFROM:+0100
TZOFFSETTO:+0200
TZNAME:CEST
DTSTART:20210328T010000
END:DAYLIGHT
BEGIN:STANDARD
TZOFFSETFROM:+0200
TZOFFSETTO:+0100
TZNAME:CET
DTSTART:20211031T010000
END:STANDARD
BEGIN:DAYLIGHT
TZOFFSETFROM:+0100
TZOFFSETTO:+0200
TZNAME:CEST
DTSTART:20220327T010000
END:DAYLIGHT
BEGIN:STANDARD
TZOFFSETFROM:+0200
TZOFFSETTO:+0100
TZNAME:CET
DTSTART:20221030T010000
END:STANDARD
END:VTIMEZONE
BEGIN:VEVENT
DTSTART;TZID=Europe/Paris:20210623T000000
DTEND;TZID=Europe/Paris:20210627T235959
DTSTAMP:20260424T050544
CREATED:20210707T074137Z
LAST-MODIFIED:20240115T205443Z
UID:2869-1624406400-1624838399@voilelatinesete.org
SUMMARY:Voiles du Bassin de Thau
DESCRIPTION:Une manifestation biennale en alternance et en relation avec Escale à Sète.Un évènement patrimonial maritime\, qui invite des « voiliers de caractère »\, d’ici et d’ailleurs\, à naviguer sur l’étang de Thau.Du mercredi 23 au dimanche 27 juin\, des navigations en flottilles amèneront les équipages à la rencontre du patrimoine singulier du bassin de Thau avec des escales dans les ports et lieux emblématiques : Bouzigues\, les Onglous\, Marseillan\, Mèze\, Sète et Balaruc-les-Bains.Ces embarcations à voiles traditionnelles et voiliers modernes\, d’horizons différents\, demeurent en harmonie avec un environnement et une histoire à laquelle les Gens de l’Etang sont fortement attachés.Ces rencontres seront l’essence d’échanges culturels entre les deux patrimoines maritime et terrestre\, offrant aux publics des propositions tant patrimoniales qu’artistiques. \n\n\n\n\n\n\n\n\n\n\n\n\n\n\n\n\n\n\nQuelques photos de l’évènement\n\n\n\n\n\n\n\n\n\n\n\n\n\n\n\n\n\n\n\n\n    \n        \n        \n               \n        \n        Carte
URL:https://voilelatinesete.org/event/voiles-du-bassin-de-thau/
LOCATION:Bouzigues\, Bouzigues\, 34140 France\, France
ATTACH;FMTTYPE=image/jpeg:https://voilelatinesete.org/wp-content/uploads/2021/07/Affiche-vdbt-2021-825-px.jpg
END:VEVENT
END:VCALENDAR