BEGIN:VCALENDAR
VERSION:2.0
PRODID:-//VOILE LATINE DE SETE ET DU BASSIN DE THAU - ECPv6.15.20//NONSGML v1.0//EN
CALSCALE:GREGORIAN
METHOD:PUBLISH
X-WR-CALNAME:VOILE LATINE DE SETE ET DU BASSIN DE THAU
X-ORIGINAL-URL:https://voilelatinesete.org
X-WR-CALDESC:Évènements pour VOILE LATINE DE SETE ET DU BASSIN DE THAU
REFRESH-INTERVAL;VALUE=DURATION:PT1H
X-Robots-Tag:noindex
X-PUBLISHED-TTL:PT1H
BEGIN:VTIMEZONE
TZID:Europe/Paris
BEGIN:DAYLIGHT
TZOFFSETFROM:+0100
TZOFFSETTO:+0200
TZNAME:CEST
DTSTART:20200329T010000
END:DAYLIGHT
BEGIN:STANDARD
TZOFFSETFROM:+0200
TZOFFSETTO:+0100
TZNAME:CET
DTSTART:20201025T010000
END:STANDARD
BEGIN:DAYLIGHT
TZOFFSETFROM:+0100
TZOFFSETTO:+0200
TZNAME:CEST
DTSTART:20210328T010000
END:DAYLIGHT
BEGIN:STANDARD
TZOFFSETFROM:+0200
TZOFFSETTO:+0100
TZNAME:CET
DTSTART:20211031T010000
END:STANDARD
BEGIN:DAYLIGHT
TZOFFSETFROM:+0100
TZOFFSETTO:+0200
TZNAME:CEST
DTSTART:20220327T010000
END:DAYLIGHT
BEGIN:STANDARD
TZOFFSETFROM:+0200
TZOFFSETTO:+0100
TZNAME:CET
DTSTART:20221030T010000
END:STANDARD
END:VTIMEZONE
BEGIN:VEVENT
DTSTART;TZID=Europe/Paris:20211016T000000
DTEND;TZID=Europe/Paris:20211023T235959
DTSTAMP:20260423T211249
CREATED:20210925T111748Z
LAST-MODIFIED:20240127T214806Z
UID:3634-1634342400-1635033599@voilelatinesete.org
SUMMARY:Brassens au chantier
DESCRIPTION:Carte\n    \n    \n        \n	    \n	\n\n        \n        \n	    \n    \n\n\n\n\n\n\n\n\n\n\n\n\n\nBrassens à Sète\, ce sont les dix-huit premières années de sa vie\, et les retours épisodiques pour voir ses proches. C’est à l’occasion de ces séjours qu’il éprouvera le besoin de posséder un bateau pour s’échapper\, avec ses amis\, sur la « grand mare des canards »\, le bassin de Thau. \n\n\n\nNotre projet est fondé sur la place qu’a tenue le chantier naval de la Plagette dans la vie maritime de Georges BRASSENS. En effet\, les deux bateaux qu’a possédés Brassens\, le « Sauve qui peut » et le « GYSS » ont été construits dans les années cinquante au chantier André AVERSA de la Plagette. Il s’adosse au travail artistique et documentaire mené par Rémi SAUTET\, artiste plasticien et vidéaste\, autour du GYSS et du recueil de nombreux témoignages exclusifs portant sur le « Brassens navigateur »\, ainsi que sur une animation de nature poétique sur l’espace du chantier. \n\n\n\n\n\n\n\n\n\n\n\n\n\n\n\n\n\n\nLe bateau de Brassens\n\n\n\n\n\n\n\n\n\nExpo
URL:https://voilelatinesete.org/event/brassens-au-chantier/
LOCATION:Chantier naval de la Plagette\, 24 rue des chantiers\, Sète\, 34200\, France
CATEGORIES:Culture
ATTACH;FMTTYPE=image/jpeg:https://voilelatinesete.org/wp-content/uploads/2021/10/Affiche_Brassens_Plagette_sans_vernissage.jpg
ORGANIZER;CN="Voile Latine de S%C3%A8te et du Bassin de Thau":MAILTO:voilelatine.sete@orange.fr
END:VEVENT
BEGIN:VEVENT
DTSTART;TZID=Europe/Paris:20211023T000000
DTEND;TZID=Europe/Paris:20211023T235959
DTSTAMP:20260423T211249
CREATED:20211009T111853Z
LAST-MODIFIED:20240102T090154Z
UID:3668-1634947200-1635033599@voilelatinesete.org
SUMMARY:L'art de la voile latine
DESCRIPTION:XI JOURNÉE TRANSFRONTALIÈRE du Réseau des Musées Maritimes de la Côte Catalane pour une journée de débats et de conférences en partenariat avec l’atelier des barques de Paulilles et le parc marin du golfe du Lion.  \n\n\n\n\n\n\n\n\n\n\n\n\n\n\n\n\nProgramme et Inscription
URL:https://voilelatinesete.org/event/lart-de-la-voile-latine/
LOCATION:Centre Culturel de Collioure\, 13 rue Jules Michelet\, Collioure\, 66190\, France
ATTACH;FMTTYPE=image/jpeg:https://voilelatinesete.org/wp-content/uploads/2021/10/Art-de-la-voile-latine.jpeg
END:VEVENT
END:VCALENDAR