BEGIN:VCALENDAR
VERSION:2.0
PRODID:-//VOILE LATINE DE SETE ET DU BASSIN DE THAU - ECPv6.15.20//NONSGML v1.0//EN
CALSCALE:GREGORIAN
METHOD:PUBLISH
X-WR-CALNAME:VOILE LATINE DE SETE ET DU BASSIN DE THAU
X-ORIGINAL-URL:https://voilelatinesete.org
X-WR-CALDESC:Évènements pour VOILE LATINE DE SETE ET DU BASSIN DE THAU
REFRESH-INTERVAL;VALUE=DURATION:PT1H
X-Robots-Tag:noindex
X-PUBLISHED-TTL:PT1H
BEGIN:VTIMEZONE
TZID:Europe/Paris
BEGIN:DAYLIGHT
TZOFFSETFROM:+0100
TZOFFSETTO:+0200
TZNAME:CEST
DTSTART:20210328T010000
END:DAYLIGHT
BEGIN:STANDARD
TZOFFSETFROM:+0200
TZOFFSETTO:+0100
TZNAME:CET
DTSTART:20211031T010000
END:STANDARD
BEGIN:DAYLIGHT
TZOFFSETFROM:+0100
TZOFFSETTO:+0200
TZNAME:CEST
DTSTART:20220327T010000
END:DAYLIGHT
BEGIN:STANDARD
TZOFFSETFROM:+0200
TZOFFSETTO:+0100
TZNAME:CET
DTSTART:20221030T010000
END:STANDARD
BEGIN:DAYLIGHT
TZOFFSETFROM:+0100
TZOFFSETTO:+0200
TZNAME:CEST
DTSTART:20230326T010000
END:DAYLIGHT
BEGIN:STANDARD
TZOFFSETFROM:+0200
TZOFFSETTO:+0100
TZNAME:CET
DTSTART:20231029T010000
END:STANDARD
END:VTIMEZONE
BEGIN:VEVENT
DTSTART;TZID=Europe/Paris:20220412T000000
DTEND;TZID=Europe/Paris:20220418T235959
DTSTAMP:20260422T213819
CREATED:20210901T162541Z
LAST-MODIFIED:20240101T220156Z
UID:3569-1649721600-1650326399@voilelatinesete.org
SUMMARY:Escale à Sète
DESCRIPTION:Depuis sa première édition en 2010\, la fête biennale Escale à Sète accueille le monde maritime durant la semaine pascale\, et célèbre les traditions au cœur du port de Sète. \n\n\n\nSète est une cité méditerranéenne créée sous Louis XIV ; un port maritime et fluvial\, au carrefour du Canal du Midi\, du Canal du Rhône à Sète et du Golfe du Lion ; une ville traversée de canaux peuplés de barques traditionnelles et animés par la ferveur sportive des joutes languedociennes ; un écrin exceptionnel\, peuplé de gens de mer qui\, au gré des migrations\, ont façonné l’identité de cette « île singulière » ; qui ont eu à cœur de maintenir son patrimoine dans ses quartiers de pêcheurs\, entre mer et étang ; avec ses traditions orales\, ses chansons de « baraquettes »\, sa cuisine\, son art de vivre. \n\n\n\nUn port tourné vers la Méditerranée et ouvert sur le Monde. \n\n\n\n\n\n\n\n\n\n\n\n\n\n\nQuelques photos
URL:https://voilelatinesete.org/event/escale-a-sete/
LOCATION:20 Rue Martin\, 34200 Sète\, 20 Rue Martin\, 34200 Sète\, Sète\, France
CATEGORIES:Rassemblement de vieux gréements
ATTACH;FMTTYPE=image/jpeg:https://voilelatinesete.org/wp-content/uploads/2024/01/AFFICHEA4-LIGHT-WEB-EAS2022_nov2021.jpg
END:VEVENT
END:VCALENDAR