BEGIN:VCALENDAR
VERSION:2.0
PRODID:-//VOILE LATINE DE SETE ET DU BASSIN DE THAU - ECPv6.15.20//NONSGML v1.0//EN
CALSCALE:GREGORIAN
METHOD:PUBLISH
X-WR-CALNAME:VOILE LATINE DE SETE ET DU BASSIN DE THAU
X-ORIGINAL-URL:https://voilelatinesete.org
X-WR-CALDESC:Évènements pour VOILE LATINE DE SETE ET DU BASSIN DE THAU
REFRESH-INTERVAL;VALUE=DURATION:PT1H
X-Robots-Tag:noindex
X-PUBLISHED-TTL:PT1H
BEGIN:VTIMEZONE
TZID:Europe/Paris
BEGIN:DAYLIGHT
TZOFFSETFROM:+0100
TZOFFSETTO:+0200
TZNAME:CEST
DTSTART:20210328T010000
END:DAYLIGHT
BEGIN:STANDARD
TZOFFSETFROM:+0200
TZOFFSETTO:+0100
TZNAME:CET
DTSTART:20211031T010000
END:STANDARD
BEGIN:DAYLIGHT
TZOFFSETFROM:+0100
TZOFFSETTO:+0200
TZNAME:CEST
DTSTART:20220327T010000
END:DAYLIGHT
BEGIN:STANDARD
TZOFFSETFROM:+0200
TZOFFSETTO:+0100
TZNAME:CET
DTSTART:20221030T010000
END:STANDARD
BEGIN:DAYLIGHT
TZOFFSETFROM:+0100
TZOFFSETTO:+0200
TZNAME:CEST
DTSTART:20230326T010000
END:DAYLIGHT
BEGIN:STANDARD
TZOFFSETFROM:+0200
TZOFFSETTO:+0100
TZNAME:CET
DTSTART:20231029T010000
END:STANDARD
END:VTIMEZONE
BEGIN:VEVENT
DTSTART;TZID=Europe/Paris:20220618T000000
DTEND;TZID=Europe/Paris:20220618T235959
DTSTAMP:20260422T180846
CREATED:20220719T103938Z
LAST-MODIFIED:20240127T215109Z
UID:3922-1655510400-1655596799@voilelatinesete.org
SUMMARY:Fête du Barrou
DESCRIPTION:Carte
URL:https://voilelatinesete.org/event/3922/
ATTACH;FMTTYPE=image/jpeg:https://voilelatinesete.org/wp-content/uploads/2022/07/Fete-des-Voiles-latines-au-Barrou.jpg
END:VEVENT
END:VCALENDAR