BEGIN:VCALENDAR
VERSION:2.0
PRODID:-//VOILE LATINE DE SETE ET DU BASSIN DE THAU - ECPv6.15.20//NONSGML v1.0//EN
CALSCALE:GREGORIAN
METHOD:PUBLISH
X-ORIGINAL-URL:https://voilelatinesete.org
X-WR-CALDESC:Évènements pour VOILE LATINE DE SETE ET DU BASSIN DE THAU
REFRESH-INTERVAL;VALUE=DURATION:PT1H
X-Robots-Tag:noindex
X-PUBLISHED-TTL:PT1H
BEGIN:VTIMEZONE
TZID:Europe/Paris
BEGIN:DAYLIGHT
TZOFFSETFROM:+0100
TZOFFSETTO:+0200
TZNAME:CEST
DTSTART:20210328T010000
END:DAYLIGHT
BEGIN:STANDARD
TZOFFSETFROM:+0200
TZOFFSETTO:+0100
TZNAME:CET
DTSTART:20211031T010000
END:STANDARD
BEGIN:DAYLIGHT
TZOFFSETFROM:+0100
TZOFFSETTO:+0200
TZNAME:CEST
DTSTART:20220327T010000
END:DAYLIGHT
BEGIN:STANDARD
TZOFFSETFROM:+0200
TZOFFSETTO:+0100
TZNAME:CET
DTSTART:20221030T010000
END:STANDARD
BEGIN:DAYLIGHT
TZOFFSETFROM:+0100
TZOFFSETTO:+0200
TZNAME:CEST
DTSTART:20230326T010000
END:DAYLIGHT
BEGIN:STANDARD
TZOFFSETFROM:+0200
TZOFFSETTO:+0100
TZNAME:CET
DTSTART:20231029T010000
END:STANDARD
END:VTIMEZONE
BEGIN:VEVENT
DTSTART;TZID=Europe/Paris:20220722T000000
DTEND;TZID=Europe/Paris:20220730T235959
DTSTAMP:20260422T161131
CREATED:20220719T114732Z
LAST-MODIFIED:20240127T215203Z
UID:3936-1658448000-1659225599@voilelatinesete.org
SUMMARY:Voix Vives
DESCRIPTION:L’association Voile Latine de Sète et du Bassin de Thau embarque sur ses barquettes poètes et visiteurs pour une lecture intimiste en mer.Le samedi 23 de 18h à 20h lectures au chantier de la Plagette.
URL:https://voilelatinesete.org/event/voix-vives-2022/
CATEGORIES:Culture
ATTACH;FMTTYPE=image/jpeg:https://voilelatinesete.org/wp-content/uploads/2022/07/Festival-de-Poesie-Voix-Vives-2022-a-Sete-Affiche.jpg
END:VEVENT
BEGIN:VEVENT
DTSTART;TZID=Europe/Paris:20220731T000000
DTEND;TZID=Europe/Paris:20220731T235959
DTSTAMP:20260422T161131
CREATED:20220719T124209Z
LAST-MODIFIED:20240102T210324Z
UID:3942-1659225600-1659311999@voilelatinesete.org
SUMMARY:Trobade du Barcares
DESCRIPTION:Pour les inscriptions : trobada.barcares@gmail.com
URL:https://voilelatinesete.org/event/trobade-du-barcares/
ATTACH;FMTTYPE=image/jpeg:https://voilelatinesete.org/wp-content/uploads/2022/07/Trobade.jpeg
END:VEVENT
END:VCALENDAR