BEGIN:VCALENDAR
VERSION:2.0
PRODID:-//VOILE LATINE DE SETE ET DU BASSIN DE THAU - ECPv6.15.20//NONSGML v1.0//EN
CALSCALE:GREGORIAN
METHOD:PUBLISH
X-ORIGINAL-URL:https://voilelatinesete.org
X-WR-CALDESC:Évènements pour VOILE LATINE DE SETE ET DU BASSIN DE THAU
REFRESH-INTERVAL;VALUE=DURATION:PT1H
X-Robots-Tag:noindex
X-PUBLISHED-TTL:PT1H
BEGIN:VTIMEZONE
TZID:Europe/Helsinki
BEGIN:DAYLIGHT
TZOFFSETFROM:+0200
TZOFFSETTO:+0300
TZNAME:EEST
DTSTART:20220327T010000
END:DAYLIGHT
BEGIN:STANDARD
TZOFFSETFROM:+0300
TZOFFSETTO:+0200
TZNAME:EET
DTSTART:20221030T010000
END:STANDARD
BEGIN:DAYLIGHT
TZOFFSETFROM:+0200
TZOFFSETTO:+0300
TZNAME:EEST
DTSTART:20230326T010000
END:DAYLIGHT
BEGIN:STANDARD
TZOFFSETFROM:+0300
TZOFFSETTO:+0200
TZNAME:EET
DTSTART:20231029T010000
END:STANDARD
BEGIN:DAYLIGHT
TZOFFSETFROM:+0200
TZOFFSETTO:+0300
TZNAME:EEST
DTSTART:20240331T010000
END:DAYLIGHT
BEGIN:STANDARD
TZOFFSETFROM:+0300
TZOFFSETTO:+0200
TZNAME:EET
DTSTART:20241027T010000
END:STANDARD
END:VTIMEZONE
BEGIN:VEVENT
DTSTART;TZID=Europe/Helsinki:20230817T080000
DTEND;TZID=Europe/Helsinki:20230822T170000
DTSTAMP:20260421T151821
CREATED:20230729T084617Z
LAST-MODIFIED:20240115T231251Z
UID:4644-1692259200-1692723600@voilelatinesete.org
SUMMARY:Saint Louis
DESCRIPTION:Comme chaque année  l’association « Les  Amis du Musée de la Mer  » organise  un Vire vire le mardi de la Saint Louis  entre le môle et la plage du Lazaret .L’association  « Voile Latine de Sète et du Bassin de Thau » y participera avec tous ses bateaux pour offrir depuis la promenade de la corniche un spectacle de nacelles\, barquettes et catalanes sous voiles\, derniers témoins d’un patrimoine maritime à préserver. \n\n\n\n\n\n\n\n\n\n\n\n\n\n\n\n\n\n    \n        \n        \n               \n        \n        Carte
URL:https://voilelatinesete.org/event/saint-louis/
CATEGORIES:Fête traditionnelle
ATTACH;FMTTYPE=image/jpeg:https://voilelatinesete.org/wp-content/uploads/2023/07/8ddb3612-f30a-5c5d-a488-0593d5d762c3.jpg
END:VEVENT
END:VCALENDAR